BEGIN:VCALENDAR
VERSION:2.0
PRODID:-//Plone.org//NONSGML plone.app.event//EN
X-WR-TIMEZONE:Europe/Berlin
BEGIN:VEVENT
SUMMARY:Kohle für die Energiewende – wer zahlt die Zeche?
DTSTART;TZID=Europe/Berlin;VALUE=DATE-TIME:20140816T140000
DTEND;TZID=Europe/Berlin;VALUE=DATE-TIME:20140816T180000
DTSTAMP;VALUE=DATE-TIME:20210814T051230Z
UID:64b9ecad49994c6d84742a49b1944934@localhost:8080
CONTACT:http://www.gruene-lichtenberg.de/solarer-sonnabend-2014/
CREATED;VALUE=DATE-TIME:20140730T120357Z
DESCRIPTION:Am 16. August veranstaltet Bündnis 90/Die Grünen eine Podium
 sdiskussion zu verschiedenen Aspekten der Energiewende und die Kosten daf
 ür.\n
LAST-MODIFIED;VALUE=DATE-TIME:20151012T092227Z
LOCATION:Rummelsburger Bucht\, An der Bucht\, 10317 Berlin-Lichtenberg 
URL:https://www.pik-potsdam.de/de/aktuelles/oeffentliche-veranstaltungen/k
 ohle-fuer-die-energiewende-wer-zahlt-die-zeche
END:VEVENT
BEGIN:VTIMEZONE
TZID:Europe/Berlin
X-LIC-LOCATION:Europe/Berlin
BEGIN:DAYLIGHT
DTSTART;VALUE=DATE-TIME:20140330T030000
TZNAME:CEST
TZOFFSETFROM:+0100
TZOFFSETTO:+0200
END:DAYLIGHT
END:VTIMEZONE
END:VCALENDAR
