BEGIN:VCALENDAR
VERSION:2.0
PRODID:-//Plone.org//NONSGML plone.app.event//EN
X-WR-TIMEZONE:Europe/Berlin
BEGIN:VEVENT
SUMMARY:Klimawende durch Energiewandel. Karikaturen für eine bessere Welt
 .
DTSTART;TZID=Europe/Berlin;VALUE=DATE-TIME:20130524T140000
DTEND;TZID=Europe/Berlin;VALUE=DATE-TIME:20130524T180000
DTSTAMP;VALUE=DATE-TIME:20210814T051306Z
UID:c46c2b05595d49fb9e9a0e250fdcb4d6@localhost:8080
CONTACT:http://gl.berlin-brandenburg.de/ueber/klimawende-durch-engergiewan
 del.html
CREATED;VALUE=DATE-TIME:20130502T084613Z
DESCRIPTION:Friedrich Wilhelm Gerstengarbe vom Potsdam-Institut für Klima
 folgenforschung hält die Laudatio bei der Eröffnung der Austellung der G
 emeinsamen Landesplanung "Klimawende durch Energiewandel"  der drei Brande
 burger Minsterien für Infrastruktur\, für Umwelt und für Wirtschaft. 
LAST-MODIFIED;VALUE=DATE-TIME:20200831T102622Z
LOCATION:Haupttreppenhaus des Potsdamer Großen Waisenhauses\, Lindenstra
 ße 34a\, 14467 Potsdam
URL:https://www.pik-potsdam.de/de/aktuelles/oeffentliche-veranstaltungen/k
 limawende-durch-energiewandel
END:VEVENT
BEGIN:VTIMEZONE
TZID:Europe/Berlin
X-LIC-LOCATION:Europe/Berlin
BEGIN:DAYLIGHT
DTSTART;VALUE=DATE-TIME:20130331T030000
TZNAME:CEST
TZOFFSETFROM:+0100
TZOFFSETTO:+0200
END:DAYLIGHT
END:VTIMEZONE
END:VCALENDAR
