BEGIN:VCALENDAR
VERSION:2.0
PRODID:-//Plone.org//NONSGML plone.app.event//EN
X-WR-TIMEZONE:Europe/Berlin
BEGIN:VEVENT
SUMMARY:Klimawandel und Nachhaltigkeit: Zentrale Herausforderungen des 21.
  Jahrhunderts
DTSTART;TZID=Europe/Berlin;VALUE=DATE-TIME:20130526T110000
DTEND;TZID=Europe/Berlin;VALUE=DATE-TIME:20130526T130000
DTSTAMP;VALUE=DATE-TIME:20210814T051311Z
UID:1e9e3ce94dca4dd382e12338b857a531@localhost:8080
CONTACT:http://www.schloss-weesenstein.de/de/veranstaltungen/detailseite/v
 eranstaltung_anzeigen/sonntagsmatinee_quo_vadis_eine_annaeherung_an_die_wa
 hrheit-1/
CREATED;VALUE=DATE-TIME:20130423T083029Z
DESCRIPTION:Wolfgang Lucht vom Potsdam-Institut für Klimaforschung hält 
 im Rahmen der Sonntagsmatinee "Quo vadis - Eine Annäherung an die Wahrhei
 t" einen Vortrag zum Thema "Klimawandel und Nachhaltigkeit: Zentrale Herau
 sforderungen des 21. Jahrhunderts" auf Schloss Weesenstein. Eine Kartenbes
 tellung beim Veranstalter ist erforderlich!
LAST-MODIFIED;VALUE=DATE-TIME:20200831T102622Z
LOCATION:Schloss Weesenstein\, Am Schloßberg 1\, 01809 Müglitztal\, Gro
 ßer Saal
URL:https://www.pik-potsdam.de/de/aktuelles/oeffentliche-veranstaltungen/k
 limawandel-und-nachhaltigkeit-zentrale-herausforderungen-des-21.-jahrhunde
 rts
END:VEVENT
BEGIN:VTIMEZONE
TZID:Europe/Berlin
X-LIC-LOCATION:Europe/Berlin
BEGIN:DAYLIGHT
DTSTART;VALUE=DATE-TIME:20130331T030000
TZNAME:CEST
TZOFFSETFROM:+0100
TZOFFSETTO:+0200
END:DAYLIGHT
END:VTIMEZONE
END:VCALENDAR
