BEGIN:VCALENDAR
VERSION:2.0
PRODID:-//Plone.org//NONSGML plone.app.event//EN
X-WR-TIMEZONE:Europe/Berlin
BEGIN:VEVENT
SUMMARY:Klimaschutz mal anders: Eine grüne Welt ist tanzbar
DTSTART;TZID=Europe/Berlin;VALUE=DATE-TIME:20150703T190000
DTEND;TZID=Europe/Berlin;VALUE=DATE-TIME:20150704T040000
DTSTAMP;VALUE=DATE-TIME:20210814T051157Z
UID:9a4306e003194c20bfc462a68f3d12ae@localhost:8080
CONTACT:http://clubmob-berlin.de/
CREATED;VALUE=DATE-TIME:20150702T140737Z
DESCRIPTION:'Crowdfeiern für's Klima' - der BUND Berlin und die Initiativ
 e CLUBMOB laden ein zu einem Abend für das Klima und mit Musik. PIK-Wisse
 nschaftler Fritz Reusswig diskutiert mit Vertetern der Politik: Wie lassen
  sich Klimaschutz und Feierkultur unter einen Hut bringen? Anschließend w
 erden in Workshops Ansätze für eine nachhaltige Art zu feiern entwickelt
 . Schließlich wird in die Nacht getanzt - und alle Einnahmen fließen in 
 Energiesparmaßnahmen des Clubs.
LAST-MODIFIED;VALUE=DATE-TIME:20200831T102623Z
LOCATION:Privatclub\, Skalitzer Straße 85\, 10997 Berlin
URL:https://www.pik-potsdam.de/de/aktuelles/oeffentliche-veranstaltungen/k
 limaschutz-mal-anders-eine-gruene-welt-ist-tanzbar
END:VEVENT
BEGIN:VTIMEZONE
TZID:Europe/Berlin
X-LIC-LOCATION:Europe/Berlin
BEGIN:DAYLIGHT
DTSTART;VALUE=DATE-TIME:20150329T030000
TZNAME:CEST
TZOFFSETFROM:+0100
TZOFFSETTO:+0200
END:DAYLIGHT
END:VTIMEZONE
END:VCALENDAR
