BEGIN:VCALENDAR
VERSION:2.0
PRODID:-//Plone.org//NONSGML plone.app.event//EN
X-WR-TIMEZONE:Europe/Berlin
BEGIN:VEVENT
SUMMARY:Klimaschutz als Weltbürgerbewegung?
DTSTART;TZID=Europe/Berlin;VALUE=DATE-TIME:20150225T140000
DTEND;TZID=Europe/Berlin;VALUE=DATE-TIME:20150225T160000
DTSTAMP;VALUE=DATE-TIME:20210814T051236Z
UID:a353bb5ec28745e38770f1ba26e22923@localhost:8080
CONTACT:http://www.leuphana.de/konferenzwoche/programm/veranstaltungstexte
 /tag2-arenen/klimaschutz-als-weltbuergerbewegung.html
CREATED;VALUE=DATE-TIME:20150227T125641Z
DESCRIPTION:Diskussionsrunde. Welche Beiträge kann die weltweite Zivilges
 ellschaft leisten\, um der globalen Herausforderung des Klimaschutzes zu b
 egegnen? Wie kann die Politik dabei unterstützen? Daniel Klingenfeld\, St
 absleiter am PIK\, debattiert mit anderen renommierten Experten zum Thema 
 in einer Diskussionsrunde an der Leuphana-Universität Lüneburg.
LAST-MODIFIED;VALUE=DATE-TIME:20200831T102626Z
LOCATION:Leuphana-Universität Lüneburg
URL:https://www.pik-potsdam.de/de/aktuelles/oeffentliche-veranstaltungen/k
 limaschutz-als-weltburgerbewegung
END:VEVENT
BEGIN:VTIMEZONE
TZID:Europe/Berlin
X-LIC-LOCATION:Europe/Berlin
BEGIN:STANDARD
DTSTART;VALUE=DATE-TIME:20141026T020000
TZNAME:CET
TZOFFSETFROM:+0200
TZOFFSETTO:+0100
END:STANDARD
END:VTIMEZONE
END:VCALENDAR
