BEGIN:VCALENDAR
VERSION:2.0
PRODID:-//Plone.org//NONSGML plone.app.event//EN
X-WR-TIMEZONE:Europe/Berlin
BEGIN:VEVENT
SUMMARY:Klimagerechte Quartiersentwicklung in Berlin
DTSTART;TZID=Europe/Berlin;VALUE=DATE-TIME:20120425T190000
DTEND;TZID=Europe/Berlin;VALUE=DATE-TIME:20120425T210000
DTSTAMP;VALUE=DATE-TIME:20210814T051250Z
UID:39e8a07c8cc84fb5a23fc755857877de@localhost:8080
CONTACT:http://www.bildungswerk-boell.de/calendar/VA-viewevt.aspx?evtid=11
 174
CREATED;VALUE=DATE-TIME:20120416T114405Z
DESCRIPTION:Den Auftakt der neuen Veranstaltungsreihe zur klimafreundliche
 n Stadtplanung\, organisiert vom Bildungswerk Berlin der Heinrich-Böll-St
 iftung in Kooperation mit dem PIK\, macht das erste Panel "Klima Kieze" mi
 t dem Berliner Kiezinitiativen vorgestellt werden\, die sich aktiv im Klim
 aschutz und in der Klimaanpassung engagieren. 
LAST-MODIFIED;VALUE=DATE-TIME:20151012T092249Z
LOCATION:FORUM Factory\, Berlin
URL:https://www.pik-potsdam.de/de/aktuelles/oeffentliche-veranstaltungen/k
 limagerechte-quartiersentwicklung-in-berlin
END:VEVENT
BEGIN:VTIMEZONE
TZID:Europe/Berlin
X-LIC-LOCATION:Europe/Berlin
BEGIN:DAYLIGHT
DTSTART;VALUE=DATE-TIME:20120325T030000
TZNAME:CEST
TZOFFSETFROM:+0100
TZOFFSETTO:+0200
END:DAYLIGHT
END:VTIMEZONE
END:VCALENDAR
