BEGIN:VCALENDAR
VERSION:2.0
PRODID:-//Plone.org//NONSGML plone.app.event//EN
X-WR-TIMEZONE:Europe/Berlin
BEGIN:VEVENT
SUMMARY:Klimaaktiv-Konferenz: Energie- und Mobilitätswende gemeinsam gest
 alten
DTSTART;TZID=Europe/Berlin;VALUE=DATE-TIME:20150917T130000
DTEND;TZID=Europe/Berlin;VALUE=DATE-TIME:20150918T200000
DTSTAMP;VALUE=DATE-TIME:20210814T051146Z
UID:da11b8228cf64d1a83ceb748c8e01bda@localhost:8080
CONTACT:http://www.klimaaktiv.at/initiative/aktuelles/konferenz15.html
CREATED;VALUE=DATE-TIME:20150825T073902Z
DESCRIPTION:Vortrag. Die staatliche österreichische Klimaschutzinitiative
  Klimaaktiv lädt im September zur diesjährigen Konferenz\, deren Schwerp
 unkt auf der Gestaltung der Energiewende und Mobilitätswende in Österrei
 ch liegt. PIK-Wissenschaftler Stefan Rahmstorf gibt im Eröffnungsvortrag 
 fachlichen Input zu den neuesten Erkenntnissen der Forschung zur globalen 
 Erwärmung. Nebst Vorträgen und Diskussionen werden Workshops und Exkursi
 onen geboten\, Anmeldung erforderlich.
LAST-MODIFIED;VALUE=DATE-TIME:20200831T102623Z
LOCATION:Wirtschaftskammer Österreich\, Wien
URL:https://www.pik-potsdam.de/de/aktuelles/oeffentliche-veranstaltungen/k
 limaaktiv-konferenz-energie-und-mobilitaetswende-gemeinsam-gestalten
END:VEVENT
BEGIN:VTIMEZONE
TZID:Europe/Berlin
X-LIC-LOCATION:Europe/Berlin
BEGIN:DAYLIGHT
DTSTART;VALUE=DATE-TIME:20150329T030000
TZNAME:CEST
TZOFFSETFROM:+0100
TZOFFSETTO:+0200
END:DAYLIGHT
END:VTIMEZONE
END:VCALENDAR
