BEGIN:VCALENDAR
VERSION:2.0
PRODID:-//Plone.org//NONSGML plone.app.event//EN
X-WR-TIMEZONE:Europe/Berlin
BEGIN:VEVENT
SUMMARY:Klima – Wandel im Gipfeljahr 2015
DTSTART;TZID=Europe/Berlin;VALUE=DATE-TIME:20150318T123000
DTEND;TZID=Europe/Berlin;VALUE=DATE-TIME:20150318T185000
DTSTAMP;VALUE=DATE-TIME:20210814T051229Z
UID:0b2fe55fdc5f4842ab2b0b31fb6f419e@localhost:8080
CONTACT:http://klima-wandel.vdw-ev.de/version-02/
CREATED;VALUE=DATE-TIME:20150316T145655Z
DESCRIPTION:Symposium "für ein Zusammenspiel von Wissenschaft\, Politik u
 nd Gesellschaft". Anlässlich des 75. Geburtstags des Klimaforschers Hartm
 ut Graßl kommen renommierte Wissenschaftler in Hamburg zusammen\, um die 
 Herausforderungen des Klimawandels zu benennen und Lösungsansätze zu era
 rbeiten. PIK-Chefökonom Ottmar Edenhofer geht dabei insbesondere der Frag
 e nach\, welche Forschung für den Klimaschutz von Nöten ist.
LAST-MODIFIED;VALUE=DATE-TIME:20200831T102624Z
LOCATION:Universität Hamburg
URL:https://www.pik-potsdam.de/de/aktuelles/oeffentliche-veranstaltungen/k
 lima-wandel-im-gipfeljahr-2015
END:VEVENT
BEGIN:VTIMEZONE
TZID:Europe/Berlin
X-LIC-LOCATION:Europe/Berlin
BEGIN:STANDARD
DTSTART;VALUE=DATE-TIME:20141026T020000
TZNAME:CET
TZOFFSETFROM:+0200
TZOFFSETTO:+0100
END:STANDARD
END:VTIMEZONE
END:VCALENDAR
