BEGIN:VCALENDAR
VERSION:2.0
PRODID:-//Plone.org//NONSGML plone.app.event//EN
X-WR-TIMEZONE:Europe/Berlin
BEGIN:VEVENT
SUMMARY:Klima auf Bestellung - Was kann und darf Geo-Engineering?
DTSTART;TZID=Europe/Berlin;VALUE=DATE-TIME:20120704T190000
DTEND;TZID=Europe/Berlin;VALUE=DATE-TIME:20120704T210000
DTSTAMP;VALUE=DATE-TIME:20210814T051242Z
UID:f59231052a1344b3bb3edf00a54d1774@localhost:8080
CREATED;VALUE=DATE-TIME:20120704T131647Z
DESCRIPTION:In der Gesprächsreihe "LebensWandel - Ideen für die Welt von
  morgen" der Max-Planck-Gesellschaft diskutieren Ottmar Edenhofer\, stellv
 ertretender Direktor und Chefökonom des PIK\, Jochem Marotzke\, Direktor 
 am Max-Planck-Institut für Meteorologie in Hamburg und Rüdiger Wolfrum\,
  emeritierter Direktor am Max-Planck-Institut für Völkerrrecht in Heidel
 berg über im großen Maßstab durchgeführte technische Eingriffe ins Kli
 masystem. 
LAST-MODIFIED;VALUE=DATE-TIME:20151012T092246Z
LOCATION:München 
URL:https://www.pik-potsdam.de/de/aktuelles/oeffentliche-veranstaltungen/k
 lima-auf-bestellung-was-kann-und-darf-geo-engineering
END:VEVENT
BEGIN:VTIMEZONE
TZID:Europe/Berlin
X-LIC-LOCATION:Europe/Berlin
BEGIN:DAYLIGHT
DTSTART;VALUE=DATE-TIME:20120325T030000
TZNAME:CEST
TZOFFSETFROM:+0100
TZOFFSETTO:+0200
END:DAYLIGHT
END:VTIMEZONE
END:VCALENDAR
