BEGIN:VCALENDAR
VERSION:2.0
PRODID:-//Plone.org//NONSGML plone.app.event//EN
X-WR-TIMEZONE:Europe/Berlin
BEGIN:VEVENT
SUMMARY:Internationale Fachtagung „Historische Gärten im Klimawandel“
DTSTART;TZID=Europe/Berlin;VALUE=DATE-TIME:20140904T090000
DTEND;TZID=Europe/Berlin;VALUE=DATE-TIME:20140906T120000
DTSTAMP;VALUE=DATE-TIME:20210814T051235Z
UID:3ccfec9432e746e09354aa86d0c3eb84@localhost:8080
CONTACT:http://www.spsg.de/aktuelles/veranstaltung/historische-gaerten-im-
 klimawandel/tid/586/
CREATED;VALUE=DATE-TIME:20140812T104613Z
DESCRIPTION:Die Stiftung Preußische Schlösser und Gärten Berlin-Branden
 burg richtet internationale Fachtagung zum Thema „Historische Gärten im
  Klimawandel – Empfehlungen zur Bewahrung“ aus.\n
LAST-MODIFIED;VALUE=DATE-TIME:20151012T092226Z
LOCATION:Potsdam\, Nikolaisaal\, Wilhelm-Staab-Str. 10-11\, und Orangeries
 chloss\, Park Sanssouci
URL:https://www.pik-potsdam.de/de/aktuelles/oeffentliche-veranstaltungen/i
 nternationale-fachtagung-historische-gaerten-im-klimawandel
END:VEVENT
BEGIN:VTIMEZONE
TZID:Europe/Berlin
X-LIC-LOCATION:Europe/Berlin
BEGIN:DAYLIGHT
DTSTART;VALUE=DATE-TIME:20140330T030000
TZNAME:CEST
TZOFFSETFROM:+0100
TZOFFSETTO:+0200
END:DAYLIGHT
END:VTIMEZONE
END:VCALENDAR
