BEGIN:VCALENDAR
VERSION:2.0
PRODID:-//Plone.org//NONSGML plone.app.event//EN
X-WR-TIMEZONE:Europe/Berlin
BEGIN:VEVENT
SUMMARY:IAMO-Forum 2015: Landwirtschaft & Klimawandel in Transformationsl
 ändern 
DTSTART;TZID=Europe/Berlin;VALUE=DATE-TIME:20150617T100000
DTEND;TZID=Europe/Berlin;VALUE=DATE-TIME:20150619T180000
DTSTAMP;VALUE=DATE-TIME:20210814T051145Z
UID:7387ff309c834648a74a8849766da011@localhost:8080
CONTACT:http://projects.iamo.de/forum/2015/about-the-conference.html
CREATED;VALUE=DATE-TIME:20150508T085042Z
DESCRIPTION:Einserseits ist die globale Landwirtschaft einer der Hauptemit
 tenten von Treibhausgasen\, andererseits ist die globale Ernährungssicher
 heit einer der durch den Klimawandel gefährdetsten Faktoren. Das Potsdam-
 Institut für Klimafolgenforschung und das Leibniz-Institut für Agrarentw
 icklung \nin Transformationsökonomien bieten mit dem diesjährigen IAMO-F
 orum eine Plattform für die Präsentation und Diskussion von Forschungser
 gebnissen zum Thema. Neben anderen nehmen auch PIK-Direktor Hans Joachim S
 chellnhuber und PIK-Forscher Hermann Lotze-Campen an der Veranstaltung tei
 l.
LAST-MODIFIED;VALUE=DATE-TIME:20200831T102403Z
LOCATION:Halle (Saale)
URL:https://www.pik-potsdam.de/de/aktuelles/oeffentliche-veranstaltungen/i
 amo-forum-2015-landwirtschaft-klimawandel-in-transformationslaendern
END:VEVENT
BEGIN:VTIMEZONE
TZID:Europe/Berlin
X-LIC-LOCATION:Europe/Berlin
BEGIN:DAYLIGHT
DTSTART;VALUE=DATE-TIME:20150329T030000
TZNAME:CEST
TZOFFSETFROM:+0100
TZOFFSETTO:+0200
END:DAYLIGHT
END:VTIMEZONE
END:VCALENDAR
