BEGIN:VCALENDAR
VERSION:2.0
PRODID:-//Plone.org//NONSGML plone.app.event//EN
X-WR-TIMEZONE:Europe/Berlin
BEGIN:VEVENT
SUMMARY:Hochschultage „Ökosoziale Marktwirtschaft und Nachhaltigkeit“
  an der TU Berlin
DTSTART;TZID=Europe/Berlin;VALUE=DATE-TIME:20121120T100000
DTEND;TZID=Europe/Berlin;VALUE=DATE-TIME:20121121T183000
DTSTAMP;VALUE=DATE-TIME:20210814T051241Z
UID:ce068ebdf09d4fbaac6cad97e99cd916@localhost:8080
CONTACT:http://www.hochschultage.org/hochschultage-2012/berlin-2012
CREATED;VALUE=DATE-TIME:20121116T093742Z
DESCRIPTION:Ottmar Edenhofer\, stellvertretender Direktor und Chefökonom 
 des PIK\, hält am 20.11. um 14:00 Uhr im Rahmen der Hochschultage „Öko
 soziale Marktwirtschaft und Nachhaltigkeit“ an der TU Berlin einen Vortr
 ag mit dem Thema "Pokern um die Zukunft: Das Schicksal der Global Commons"
 .
LAST-MODIFIED;VALUE=DATE-TIME:20200831T102626Z
LOCATION:Berlin\, Audimax der TU Berlin\, H0105\, Hauptgebäude\, Straße 
 des 17. Juni 135
URL:https://www.pik-potsdam.de/de/aktuelles/oeffentliche-veranstaltungen/h
 ochschultage-201eoekosoziale-marktwirtschaft-und-nachhaltigkeit201c-an-der
 -tu-berlin
END:VEVENT
BEGIN:VTIMEZONE
TZID:Europe/Berlin
X-LIC-LOCATION:Europe/Berlin
BEGIN:STANDARD
DTSTART;VALUE=DATE-TIME:20121028T020000
TZNAME:CET
TZOFFSETFROM:+0200
TZOFFSETTO:+0100
END:STANDARD
END:VTIMEZONE
END:VCALENDAR
