BEGIN:VCALENDAR
VERSION:2.0
PRODID:-//Plone.org//NONSGML plone.app.event//EN
X-WR-TIMEZONE:Europe/Berlin
BEGIN:VEVENT
SUMMARY:Gesundheit\, Energie und Extremereignisse in einem sich wandelnden
  Klima
DTSTART;TZID=Europe/Berlin;VALUE=DATE-TIME:20141206T090000
DTEND;TZID=Europe/Berlin;VALUE=DATE-TIME:20141209T180000
DTSTAMP;VALUE=DATE-TIME:20210814T051231Z
UID:647aa28cb342474cb3c793ab9100c28c@localhost:8080
CONTACT:http://www.pik-potsdam.de/heeecc
CREATED;VALUE=DATE-TIME:20141007T123552Z
DESCRIPTION:Workshop. Theoretische Physiker und Forscher aus dem Gebiet\nK
 omplexer Systeme kommen zusammen mit Experten zu Gesundheit\, Energieerzeu
 gung und Klimawandel\, um Wechselwirkungen zwischen diesen Systemen\nzu er
 forschen und relevante Forschungsmöglichkeiten für\nNachwuchsphysiker zu
  präsentieren. im Programmkommittee wirken die PIK-Forscher Jobst Heitzig
  und Jürgen Kurths sowie Henry Ababarnel von der University of California
  mit.
LAST-MODIFIED;VALUE=DATE-TIME:20200831T102625Z
LOCATION:Bad Honnef\, Deutschland
URL:https://www.pik-potsdam.de/de/aktuelles/oeffentliche-veranstaltungen/h
 ealth-energy-extreme-events-in-a-changing-climate
END:VEVENT
BEGIN:VTIMEZONE
TZID:Europe/Berlin
X-LIC-LOCATION:Europe/Berlin
BEGIN:STANDARD
DTSTART;VALUE=DATE-TIME:20141026T020000
TZNAME:CET
TZOFFSETFROM:+0200
TZOFFSETTO:+0100
END:STANDARD
END:VTIMEZONE
END:VCALENDAR
