BEGIN:VCALENDAR
VERSION:2.0
PRODID:-//Plone.org//NONSGML plone.app.event//EN
X-WR-TIMEZONE:Europe/Berlin
BEGIN:VEVENT
SUMMARY:Habilitations-Vorlesung: Dürren im Europa des 21. Jahrhunderts
DTSTART;TZID=Europe/Berlin;VALUE=DATE-TIME:20130603T133000
DTEND;TZID=Europe/Berlin;VALUE=DATE-TIME:20130603T153000
DTSTAMP;VALUE=DATE-TIME:20210814T051314Z
UID:e49be02d5734476480c30fccd0cf59a7@localhost:8080
CREATED;VALUE=DATE-TIME:20130516T143650Z
DESCRIPTION:Im Rahmen seines Habilitationsverfahrens hält Dieter Gerten v
 om Potsdam-Institut für Klimafolgenforschung einen öffentlichen Vortrag 
 mit anschließendem wissenschaftlichen Fachgespräch zum Thema "Dürren im
  Europa des 21. Jahrhunderts" am Geographischen Institut der Humboldt-Univ
 ersität zu Berlin.\n
LAST-MODIFIED;VALUE=DATE-TIME:20200831T102623Z
LOCATION:Geographisches Institut der Humboldt-Universität zu Berlin\, Rud
 ower Chaussee 16\, 12489 Berlin\, Raum 1’201
URL:https://www.pik-potsdam.de/de/aktuelles/oeffentliche-veranstaltungen/h
 abilitations-vorlesung-duerren-im-europa-des-21.-jahrhunderts
END:VEVENT
BEGIN:VTIMEZONE
TZID:Europe/Berlin
X-LIC-LOCATION:Europe/Berlin
BEGIN:DAYLIGHT
DTSTART;VALUE=DATE-TIME:20130331T030000
TZNAME:CEST
TZOFFSETFROM:+0100
TZOFFSETTO:+0200
END:DAYLIGHT
END:VTIMEZONE
END:VCALENDAR
