BEGIN:VCALENDAR
VERSION:2.0
PRODID:-//Plone.org//NONSGML plone.app.event//EN
X-WR-TIMEZONE:Europe/Berlin
BEGIN:VEVENT
SUMMARY:Grundsteinlegung für den Neubau
DTSTART;TZID=Europe/Berlin;VALUE=DATE-TIME:20120620T150000
DTEND;TZID=Europe/Berlin;VALUE=DATE-TIME:20120620T180000
DTSTAMP;VALUE=DATE-TIME:20210814T051247Z
UID:696b7c944f7d4675bf9a7c7c846d16b4@localhost:8080
CREATED;VALUE=DATE-TIME:20120529T133051Z
DESCRIPTION:PIK-Direktor Hans Joachim Schellnhuber wird zusammen mit der B
 undesministerin für Bildung und Forschung Prof. Dr. Annette Schavan und d
 em Staatssekretär für Wissenschaft\, Forschung und Kultur des Landes Bra
 ndenburg Martin Gerholt am 20. Juni den Grundstein für den Neubau legen. 
 Der Neubau ist gleichzeitig Teil eines Forschungsprojektes zur energetisch
 en Optimierung. 
LAST-MODIFIED;VALUE=DATE-TIME:20151012T092247Z
LOCATION:Telegraphenberg
URL:https://www.pik-potsdam.de/de/aktuelles/oeffentliche-veranstaltungen/g
 rundsteinlegung-fuer-den-neubau
END:VEVENT
BEGIN:VTIMEZONE
TZID:Europe/Berlin
X-LIC-LOCATION:Europe/Berlin
BEGIN:DAYLIGHT
DTSTART;VALUE=DATE-TIME:20120325T030000
TZNAME:CEST
TZOFFSETFROM:+0100
TZOFFSETTO:+0200
END:DAYLIGHT
END:VTIMEZONE
END:VCALENDAR
