BEGIN:VCALENDAR
VERSION:2.0
PRODID:-//Plone.org//NONSGML plone.app.event//EN
X-WR-TIMEZONE:Europe/Berlin
BEGIN:VEVENT
SUMMARY:Globaler Klimawandel - was wir alle tun können
DTSTART;TZID=Europe/Berlin;VALUE=DATE-TIME:20120511T170000
DTEND;TZID=Europe/Berlin;VALUE=DATE-TIME:20120511T190000
DTSTAMP;VALUE=DATE-TIME:20210814T051252Z
UID:f686c18930c54752ace4a882e7f056eb@localhost:8080
CONTACT:http://www.biosphaere-potsdam.de/download/1341_2011-12_Veranstaltu
 ngskalender_WEB.pdf
CREATED;VALUE=DATE-TIME:20120124T144656Z
DESCRIPTION:PIK-Wissenschaftler Fritz Reusswig spricht über Möglichkeite
 n individuellen Engagements zur Bekämpfung des globalen Klimawandels. Der
  Vortrag findet im Rahmen der neuen Vortragsreihe "Biosphäre macht Wissen
  - Die Vortragsreihe am Freitag" des Biosphäre Potsdam unter Mitwirkung d
 es PIK statt. 
LAST-MODIFIED;VALUE=DATE-TIME:20151012T092248Z
LOCATION:Biosphäre Potsdam
URL:https://www.pik-potsdam.de/de/aktuelles/oeffentliche-veranstaltungen/g
 lobaler-klimawandel-was-wir-alle-tun-konnen
END:VEVENT
BEGIN:VTIMEZONE
TZID:Europe/Berlin
X-LIC-LOCATION:Europe/Berlin
BEGIN:DAYLIGHT
DTSTART;VALUE=DATE-TIME:20120325T030000
TZNAME:CEST
TZOFFSETFROM:+0100
TZOFFSETTO:+0200
END:DAYLIGHT
END:VTIMEZONE
END:VCALENDAR
