BEGIN:VCALENDAR
VERSION:2.0
PRODID:-//Plone.org//NONSGML plone.app.event//EN
X-WR-TIMEZONE:Europe/Berlin
BEGIN:VEVENT
SUMMARY:Globale Anpassungsstrategien
DTSTART;TZID=Europe/Berlin;VALUE=DATE-TIME:20130310T000000
DTEND;TZID=Europe/Berlin;VALUE=DATE-TIME:20130311T000000
DTSTAMP;VALUE=DATE-TIME:20210814T051313Z
UID:da4d105971884e428b7a18693c0b9821@localhost:8080
CONTACT:http://www.culturaldiplomacy.org/academy/index.php?en_biec2013_age
 nda_climate-change-summit
CREATED;VALUE=DATE-TIME:20130128T091622Z
DESCRIPTION:PIK-Wissenschaftler Anders Levermann\, Leiter des Forschungsbe
 reichs "Nachhaltige Lösungsstrategien"\, spricht auf dem "Berlin Internat
 ional Economics Congress" über globale Anpassungsstrategien an den Klimaw
 andel.
LAST-MODIFIED;VALUE=DATE-TIME:20200831T102626Z
LOCATION:Berlin
URL:https://www.pik-potsdam.de/de/aktuelles/oeffentliche-veranstaltungen/g
 lobale-anpassungsstrategien
END:VEVENT
BEGIN:VTIMEZONE
TZID:Europe/Berlin
X-LIC-LOCATION:Europe/Berlin
BEGIN:STANDARD
DTSTART;VALUE=DATE-TIME:20121028T020000
TZNAME:CET
TZOFFSETFROM:+0200
TZOFFSETTO:+0100
END:STANDARD
END:VTIMEZONE
END:VCALENDAR
