BEGIN:VCALENDAR
VERSION:2.0
PRODID:-//Plone.org//NONSGML plone.app.event//EN
X-WR-TIMEZONE:Europe/Berlin
BEGIN:VEVENT
SUMMARY:Girls' Day 2015
DTSTART;TZID=Europe/Berlin;VALUE=DATE-TIME:20150423T090000
DTEND;TZID=Europe/Berlin;VALUE=DATE-TIME:20150423T140000
DTSTAMP;VALUE=DATE-TIME:20210814T051230Z
UID:a0e91f5aef7d44e9b7b21c87b65cb30e@localhost:8080
CONTACT:http://www.girls-day.de/aktool/ez/eventvcard.aspx?id=51077
CREATED;VALUE=DATE-TIME:20150128T162425Z
DESCRIPTION:Im Rahmen des Girls' Day 2015 öffnet das Potsdam-Institut fü
 r Klimafolgenforschung seine Türen für die nächste Generation. Schüler
 innen zwischen 12 und 16 können sich von führenden Wissenschaftlerinnen 
 unseres Instituts begeistern lassen für die Naturwissenschaften und die K
 limaforschung. Wir werden den Telegrafenberg erkunden\, mit den Wissenscha
 ftlerinnen über Ihre Arbeit und ihren Beruf sprechen und auch selbst in d
 ie Klimaforschung einsteigen. Die Registrierung erfolgt über die Website 
 des Veranstalters\, siehe unten.
LAST-MODIFIED;VALUE=DATE-TIME:20200831T102403Z
LOCATION:Potsdam-Institut für Klimafolgenforschung
URL:https://www.pik-potsdam.de/de/aktuelles/oeffentliche-veranstaltungen/g
 irls-day-2015
END:VEVENT
BEGIN:VTIMEZONE
TZID:Europe/Berlin
X-LIC-LOCATION:Europe/Berlin
BEGIN:DAYLIGHT
DTSTART;VALUE=DATE-TIME:20150329T030000
TZNAME:CEST
TZOFFSETFROM:+0100
TZOFFSETTO:+0200
END:DAYLIGHT
END:VTIMEZONE
END:VCALENDAR
