BEGIN:VCALENDAR
VERSION:2.0
PRODID:-//Plone.org//NONSGML plone.app.event//EN
X-WR-TIMEZONE:Europe/Berlin
BEGIN:VEVENT
SUMMARY:Girls' Day 2013 am Potsdam-Institut für Klimafolgenforschung
DTSTART;TZID=Europe/Berlin;VALUE=DATE-TIME:20130425T095000
DTEND;TZID=Europe/Berlin;VALUE=DATE-TIME:20130425T140000
DTSTAMP;VALUE=DATE-TIME:20210814T051309Z
UID:67bb7109f22f4bf4ab1b76e78ffebc92@localhost:8080
CONTACT:Paul Wolfram    \, paul.wolfram@pik-potsdam.de\, http://www.girls-
 day.de/aktool/ez/eventvcard.aspx?id=44901&skin=uo
CREATED;VALUE=DATE-TIME:20130411T114541Z
DESCRIPTION:Auch dieses Jahr öffnet das Potsdam-Institut für Klimafolgen
 forschung im Rahmen des Girls' Day 2013 und in Zusammenarbeit mit dem Zuku
 nftstag Brandenburg 2013 seine Tore für den Nachwuchs. Diesmal erkunden S
 chülerinnen im Alter zwischen 10 und 15 Jahren den Telegraphenberg\, kön
 nen in der "Wetterküche" Forschungsinstrumente zur Erforschung von Wetter
  und Klima selbst ausprobieren und unseren Wissenschaftlerinnen Fragen zu 
 Ihrer Arbeit und ihrem Beruf stellen.
LAST-MODIFIED;VALUE=DATE-TIME:20200831T102622Z
LOCATION:Konferenzraum A 62\, Telegraphenberg\, 14473 Potsdam
URL:https://www.pik-potsdam.de/de/aktuelles/oeffentliche-veranstaltungen/g
 irls-day-2013-am-potsdam-institut-fuer-klimafolgenforschung
END:VEVENT
BEGIN:VTIMEZONE
TZID:Europe/Berlin
X-LIC-LOCATION:Europe/Berlin
BEGIN:DAYLIGHT
DTSTART;VALUE=DATE-TIME:20130331T030000
TZNAME:CEST
TZOFFSETFROM:+0100
TZOFFSETTO:+0200
END:DAYLIGHT
END:VTIMEZONE
END:VCALENDAR
