BEGIN:VCALENDAR
VERSION:2.0
PRODID:-//Plone.org//NONSGML plone.app.event//EN
X-WR-TIMEZONE:Europe/Berlin
BEGIN:VEVENT
SUMMARY:Forschen für das zukünftige Klima - Girls' Day 2012 am PIK
DTSTART;TZID=Europe/Berlin;VALUE=DATE-TIME:20120426T100000
DTEND;TZID=Europe/Berlin;VALUE=DATE-TIME:20120426T140000
DTSTAMP;VALUE=DATE-TIME:20210814T051252Z
UID:5c38d7d9b9fe4a5da0f8a564ca72dcd0@localhost:8080
CONTACT:http://zukunftstagbrandenburg.de/index.php?id=52
CREATED;VALUE=DATE-TIME:20120413T105022Z
DESCRIPTION:Am 26. April lädt das PIK zum wiederholten Male junge Schüle
 rinnen auf den Telegraphenberg ein. In Planspielen\, Gesprächen und wisse
 nschaftlichen Experimenten wird der Klimawandel anschaulich erklärt.
LAST-MODIFIED;VALUE=DATE-TIME:20151012T092248Z
LOCATION:PIK\, Michelson-Haus A31\, Cupola
URL:https://www.pik-potsdam.de/de/aktuelles/oeffentliche-veranstaltungen/f
 orschen-fur-das-zukunfitge-klima-girls-day-2012-am-pik
END:VEVENT
BEGIN:VTIMEZONE
TZID:Europe/Berlin
X-LIC-LOCATION:Europe/Berlin
BEGIN:DAYLIGHT
DTSTART;VALUE=DATE-TIME:20120325T030000
TZNAME:CEST
TZOFFSETFROM:+0100
TZOFFSETTO:+0200
END:DAYLIGHT
END:VTIMEZONE
END:VCALENDAR
