BEGIN:VCALENDAR
VERSION:2.0
PRODID:-//Plone.org//NONSGML plone.app.event//EN
X-WR-TIMEZONE:Europe/Berlin
BEGIN:VEVENT
SUMMARY:Feierliche Eröffnung des Mercator Research Institute on Global Co
 mmons and Climate Change (MCC)
DTSTART;TZID=Europe/Berlin;VALUE=DATE-TIME:20121115T190000
DTEND;TZID=Europe/Berlin;VALUE=DATE-TIME:20121115T210000
DTSTAMP;VALUE=DATE-TIME:20210814T051237Z
UID:b2434338bc8d42abb74623582e119ce8@localhost:8080
CONTACT:http://www.mcc-berlin.net/index.php?id=97
CREATED;VALUE=DATE-TIME:20121106T160720Z
DESCRIPTION:Ottmar Edenhofer\, stellvertretender Direktor und Chefökonom 
 des PIK\, spricht als Direktor des neuen Mercator Research Institute on Gl
 obal Commons and Climate Change (MCC). Das MCC ist eine gemeinsame Gründu
 ng der Stiftung Mercator und des PIK.
LAST-MODIFIED;VALUE=DATE-TIME:20200831T102626Z
LOCATION:Audimax\, EUREF-Campus\, Torgauer Str. 12-15\, Berlin
URL:https://www.pik-potsdam.de/de/aktuelles/oeffentliche-veranstaltungen/f
 eierliche-eroeffnung-des-mercator-research-institute-on-global-commons-and
 -climate-change-mcc
END:VEVENT
BEGIN:VTIMEZONE
TZID:Europe/Berlin
X-LIC-LOCATION:Europe/Berlin
BEGIN:STANDARD
DTSTART;VALUE=DATE-TIME:20121028T020000
TZNAME:CET
TZOFFSETFROM:+0200
TZOFFSETTO:+0100
END:STANDARD
END:VTIMEZONE
END:VCALENDAR
