BEGIN:VCALENDAR
VERSION:2.0
PRODID:-//Plone.org//NONSGML plone.app.event//EN
X-WR-TIMEZONE:Europe/Berlin
BEGIN:VEVENT
SUMMARY:Falling Walls: Internationale Konferenz für zukünftige Durchbrü
 che in Wissenschaft & Gesellschaft
DTSTART;TZID=Europe/Berlin;VALUE=DATE-TIME:20151108T180000
DTEND;TZID=Europe/Berlin;VALUE=DATE-TIME:20151109T180000
DTSTAMP;VALUE=DATE-TIME:20210814T051157Z
UID:435108a7ba9a4599addede4557d2fbbf@localhost:8080
CONTACT:http://www.falling-walls.com/conference
CREATED;VALUE=DATE-TIME:20150925T122359Z
DESCRIPTION:Die Konferenz "Falling Walls" ist eine globale Zusammenkunft v
 orwärtsdenkender Persönlichkeiten aus über 75 Ländern und wird ausgeri
 chtet von der Falling Walls Foundation. Jedes Jahr sind zwanzig der führe
 nden Wissenschaftler der Welt nach Berlin eingeladen\, um ihre aktuellen D
 urchbrüche zu präsentieren. Auf der diesjährigen Konferenz präsentiert
  PIK-Chefökonom Ottmar Edenhofer die neuesten Erkenntnisse aus dem Bereic
 h der Klimaforschung. Anmeldung erforderlich.
LAST-MODIFIED;VALUE=DATE-TIME:20200831T102403Z
LOCATION:Berlin-Mitte
URL:https://www.pik-potsdam.de/de/aktuelles/oeffentliche-veranstaltungen/f
 alling-walls-internationale-konferenz-fuer-zukuenftige-durchbrueche-in-wis
 senschaft-gesellschaft
END:VEVENT
BEGIN:VTIMEZONE
TZID:Europe/Berlin
X-LIC-LOCATION:Europe/Berlin
BEGIN:STANDARD
DTSTART;VALUE=DATE-TIME:20151025T020000
TZNAME:CET
TZOFFSETFROM:+0200
TZOFFSETTO:+0100
END:STANDARD
END:VTIMEZONE
END:VCALENDAR
