BEGIN:VCALENDAR
VERSION:2.0
PRODID:-//Plone.org//NONSGML plone.app.event//EN
X-WR-TIMEZONE:Europe/Berlin
BEGIN:VEVENT
SUMMARY:Europäische Konferenz zur Anpassung an den Klimawandel 2015
DTSTART;TZID=Europe/Berlin;VALUE=DATE-TIME:20150512T090000
DTEND;TZID=Europe/Berlin;VALUE=DATE-TIME:20150514T160000
DTSTAMP;VALUE=DATE-TIME:20210814T051148Z
UID:98b583aea6c444bcaa230c62909dd715@localhost:8080
CONTACT:http://www.ecca2015.eu/
CREATED;VALUE=DATE-TIME:20150128T153527Z
DESCRIPTION:Die ECCA 2015 beschäftigt sich auf Grundlage der Forschungpro
 jekte BASE\, RAMSES und ToPDad mit dem Ansatz einer integrierten Klimaadap
 tion an der Schnittstelle der Bereiche Wissenschaft\, Politik\, Praxis und
  Wirtschaft. Die Session "Städte und die Folgen des Klimawandels" wird or
 ganisiert von PIK-Wissenschaftler Diego Rybski.
LAST-MODIFIED;VALUE=DATE-TIME:20200831T102403Z
LOCATION:Bella Center\, Kopenhagen\, Dänemark
URL:https://www.pik-potsdam.de/de/aktuelles/oeffentliche-veranstaltungen/e
 uropaeische-konferenz-zur-anpassung-an-den-klimawandel-2015
END:VEVENT
BEGIN:VTIMEZONE
TZID:Europe/Berlin
X-LIC-LOCATION:Europe/Berlin
BEGIN:DAYLIGHT
DTSTART;VALUE=DATE-TIME:20150329T030000
TZNAME:CEST
TZOFFSETFROM:+0100
TZOFFSETTO:+0200
END:DAYLIGHT
END:VTIMEZONE
END:VCALENDAR
