BEGIN:VCALENDAR
VERSION:2.0
PRODID:-//Plone.org//NONSGML plone.app.event//EN
X-WR-TIMEZONE:Europe/Berlin
BEGIN:VEVENT
SUMMARY:Erforschung von Lösungswegen für den Klimawandel
DTSTART;TZID=Europe/Berlin;VALUE=DATE-TIME:20150216T173000
DTEND;TZID=Europe/Berlin;VALUE=DATE-TIME:20150216T193000
DTSTAMP;VALUE=DATE-TIME:20210814T051233Z
UID:f8b3ff70d01445ff8b15c676d732ede8@localhost:8080
CONTACT:http://www.urania.de/programm/2015/y813/
CREATED;VALUE=DATE-TIME:20150227T132209Z
DESCRIPTION:Öffentlicher Vortrag. Ottmar Edenhofer\, Chefökonom des PIK\
 , referiert in einem öffentlichen Vortrag zum aktuellen Forschungsstand z
 um Klimawandel sowie zu Anpassungs- und Klimaschutzstrategien im weltweite
 n Kontext. Veranstaltung an der Urania Berlin im Rahmen der Vortragreihe '
 Leibniz-Lektionen'.
LAST-MODIFIED;VALUE=DATE-TIME:20200831T102626Z
LOCATION:Urania Berlin
URL:https://www.pik-potsdam.de/de/aktuelles/oeffentliche-veranstaltungen/e
 rforschung-von-losungswegen-fur-den-klimawandel
END:VEVENT
BEGIN:VTIMEZONE
TZID:Europe/Berlin
X-LIC-LOCATION:Europe/Berlin
BEGIN:STANDARD
DTSTART;VALUE=DATE-TIME:20141026T020000
TZNAME:CET
TZOFFSETFROM:+0200
TZOFFSETTO:+0100
END:STANDARD
END:VTIMEZONE
END:VCALENDAR
