BEGIN:VCALENDAR
VERSION:2.0
PRODID:-//Plone.org//NONSGML plone.app.event//EN
X-WR-TIMEZONE:Europe/Berlin
BEGIN:VEVENT
SUMMARY:ERDgespräche 2012
DTSTART;TZID=Europe/Berlin;VALUE=DATE-TIME:20120531T163000
DTEND;TZID=Europe/Berlin;VALUE=DATE-TIME:20120531T210000
DTSTAMP;VALUE=DATE-TIME:20210814T051249Z
UID:1a30fb6e099d458b8e9bdf346a695cf8@localhost:8080
CONTACT:http://erdgespraeche.net/
CREATED;VALUE=DATE-TIME:20120502T114403Z
DESCRIPTION:PIK-Wissenschaftler Stefan Rahmstorf hält einen Vortrag zu ak
 tuellen Entwicklungen in der Klimaforschung bei den 5. ERDgesprächen ausg
 erichtet vom NEONGREEN Network. Die Vortragsreihe ERDgespräche ist heute 
 Österreichs größte Vortragsveranstaltung zum Thema Nachhaltigkeit.
LAST-MODIFIED;VALUE=DATE-TIME:20151012T092247Z
LOCATION:Wiener Hofburg
URL:https://www.pik-potsdam.de/de/aktuelles/oeffentliche-veranstaltungen/e
 rdgesprache-2012
END:VEVENT
BEGIN:VTIMEZONE
TZID:Europe/Berlin
X-LIC-LOCATION:Europe/Berlin
BEGIN:DAYLIGHT
DTSTART;VALUE=DATE-TIME:20120325T030000
TZNAME:CEST
TZOFFSETFROM:+0100
TZOFFSETTO:+0200
END:DAYLIGHT
END:VTIMEZONE
END:VCALENDAR
