BEGIN:VCALENDAR
VERSION:2.0
PRODID:-//Plone.org//NONSGML plone.app.event//EN
X-WR-TIMEZONE:Europe/Berlin
BEGIN:VEVENT
SUMMARY:Enercity Dialog
DTSTART;TZID=Europe/Berlin;VALUE=DATE-TIME:20120425T180000
DTEND;TZID=Europe/Berlin;VALUE=DATE-TIME:20120825T200000
DTSTAMP;VALUE=DATE-TIME:20210814T051254Z
UID:616d47520e68463db796997bcc91cba0@localhost:8080
CREATED;VALUE=DATE-TIME:20120502T115738Z
DESCRIPTION:PIK-Direktor Hans Joachim Schellnhuber diskutiert mit dem Dire
 ktor des Energiewirtschaftlichen Instituts der Universität Köln zum Them
 a „Energiewende – Zwischen Klimaschutz und Wettbewerbsfähigkeit“. 
LAST-MODIFIED;VALUE=DATE-TIME:20151012T092249Z
LOCATION:Hannover Messe
URL:https://www.pik-potsdam.de/de/aktuelles/oeffentliche-veranstaltungen/e
 nercity-dialog
END:VEVENT
BEGIN:VTIMEZONE
TZID:Europe/Berlin
X-LIC-LOCATION:Europe/Berlin
BEGIN:DAYLIGHT
DTSTART;VALUE=DATE-TIME:20120325T030000
TZNAME:CEST
TZOFFSETFROM:+0100
TZOFFSETTO:+0200
END:DAYLIGHT
END:VTIMEZONE
END:VCALENDAR
