BEGIN:VCALENDAR
VERSION:2.0
PRODID:-//Plone.org//NONSGML plone.app.event//EN
X-WR-TIMEZONE:Europe/Berlin
BEGIN:VEVENT
SUMMARY:Einladung: Verleihung des Wilhelm-Foerster-Preises 2013 an Hans Jo
 achim Schellnhuber
DTSTART;TZID=Europe/Berlin;VALUE=DATE-TIME:20130327T170000
DTEND;TZID=Europe/Berlin;VALUE=DATE-TIME:20130327T200000
DTSTAMP;VALUE=DATE-TIME:20210814T051312Z
UID:efbde395f0554142a08d7328b3324383@localhost:8080
CONTACT:Eva Rahner\, 288 2502\, eva.rahner@pik-potsdam.de\, http://urania-
 potsdam.de/veranstaltungen/veranstaltung.php?id=1453389
CREATED;VALUE=DATE-TIME:20130312T103418Z
DESCRIPTION:Die Urania Potsdam wird Hans Joachim Schellnhuber in einem Fes
 takt den Wilhelm-Foerster-Preis 2013 verleihen. Der Preis ehrt jedes Jahr 
 einen im Land Brandenburg tätigen Wissenschaftler\, der sich außerordent
 liche Verdienste in der Vermittlung wissenschaftlicher Erkenntnisse an ein
  breites Publikum erworben hat. \nAls Laudatoren konnten Bildungsministeri
 n Martina Münch und Stefan Rahmstorf gewonnen werden. Hans Joachim Schell
 nhuber selbst wird einen Festvortrag mit dem Titel "Von der Neugierde übe
 rs Wissen zur Verantwortung" halten.\nDie Urania Potsdam und Hans Joachim 
 Schellnhuber würden sich freuen\, Euch zu dieser Veranstaltung begrüßen
  zu dürfen!
LAST-MODIFIED;VALUE=DATE-TIME:20200831T102623Z
LOCATION:Nikolaisaal Potsdam
URL:https://www.pik-potsdam.de/de/aktuelles/oeffentliche-veranstaltungen/e
 inladung-verleihung-des-wilhelm-foerster-preises-2013-an-john-schellnhuber
END:VEVENT
BEGIN:VTIMEZONE
TZID:Europe/Berlin
X-LIC-LOCATION:Europe/Berlin
BEGIN:STANDARD
DTSTART;VALUE=DATE-TIME:20121028T020000
TZNAME:CET
TZOFFSETFROM:+0200
TZOFFSETTO:+0100
END:STANDARD
END:VTIMEZONE
END:VCALENDAR
