BEGIN:VCALENDAR
VERSION:2.0
PRODID:-//Plone.org//NONSGML plone.app.event//EN
X-WR-TIMEZONE:Europe/Berlin
BEGIN:VEVENT
SUMMARY:DPG-Frühjahrskongress: Physik sozio-ökonomischer Systeme
DTSTART;TZID=Europe/Berlin;VALUE=DATE-TIME:20150315T090000
DTEND;TZID=Europe/Berlin;VALUE=DATE-TIME:20150320T160000
DTSTAMP;VALUE=DATE-TIME:20210814T051236Z
UID:e123a701724d4e408c14343a30ad7734@localhost:8080
CONTACT:http://www.dpg-physik.de/dpg/gliederung/fv/soe/index.html
CREATED;VALUE=DATE-TIME:20150128T151756Z
DESCRIPTION:Der Fachverband Physik sozio-ökonomischer Systeme der Deutsch
 en Physikalischen Gesellschaft veranstaltet auch dieses Jahr wieder einen 
 Frühjahrskongress. Die Veranstaltung setzt ihren Schwerpunkt auf mathemat
 ische und computergetützte Modellierung sozialer und ökonomischer System
 e und bietet unter anderem ein Symposium zur Physik der Nachhaltigkeit und
  von Mensch-Natur-Interaktionen\, organisiert von den PIK-Wissenschaftlern
  Reik Donner und Diego Rybski.
LAST-MODIFIED;VALUE=DATE-TIME:20200831T102623Z
LOCATION:Technische Universität Berlin
URL:https://www.pik-potsdam.de/de/aktuelles/oeffentliche-veranstaltungen/d
 pg-spring-meeting-2015-physics-of-socio-economic-systems-division-1
END:VEVENT
BEGIN:VTIMEZONE
TZID:Europe/Berlin
X-LIC-LOCATION:Europe/Berlin
BEGIN:STANDARD
DTSTART;VALUE=DATE-TIME:20141026T020000
TZNAME:CET
TZOFFSETFROM:+0200
TZOFFSETTO:+0100
END:STANDARD
END:VTIMEZONE
END:VCALENDAR
