BEGIN:VCALENDAR
VERSION:2.0
PRODID:-//Plone.org//NONSGML plone.app.event//EN
X-WR-TIMEZONE:Europe/Berlin
BEGIN:VEVENT
SUMMARY:Diskussion: Klimawandel in Berlin-Brandenburg
DTSTART;TZID=Europe/Berlin;VALUE=DATE-TIME:20130530T183000
DTEND;TZID=Europe/Berlin;VALUE=DATE-TIME:20130530T220000
DTSTAMP;VALUE=DATE-TIME:20210814T051313Z
UID:0f5955a7cdc9433da3a78221092d5c8e@localhost:8080
CONTACT:http://www.stk.brandenburg.de/sixcms/detail.php/bb1.c.319804.de
CREATED;VALUE=DATE-TIME:20130508T145948Z
DESCRIPTION:Manfred Stock vom Potsdam-Institut für Klimafolgenforschung (
 PIK) e.V. nimmt an einer Podiumsdiskussion zum Thema „Klimawandel in Ber
 lin-Brandenburg – Beiträge der Wissenschaft zur Anpassung“ teil. Die 
 Landesvertretung Brandenburg und die Landesvereinigung\nAußeruniversitär
 er Forschung Brandenburg (LAUF e.V.) laden zu diesem Gesprächsabend ein\,
  der sich mit den Auswirkungen des Klimawandels auf die Region Berlin-Bran
 denburg befasst. Um Anmeldung unter veranstaltungen@lv-bb.brandenburg.de w
 ird gebeten!
LAST-MODIFIED;VALUE=DATE-TIME:20200831T102624Z
LOCATION:Vertretung des Landes Brandenburg beim Bund In den Ministergärte
 n 3\, 10117 Berlin
URL:https://www.pik-potsdam.de/de/aktuelles/oeffentliche-veranstaltungen/d
 iskussion-klimawandel-in-berlin-brandenburg
END:VEVENT
BEGIN:VTIMEZONE
TZID:Europe/Berlin
X-LIC-LOCATION:Europe/Berlin
BEGIN:DAYLIGHT
DTSTART;VALUE=DATE-TIME:20130331T030000
TZNAME:CEST
TZOFFSETFROM:+0100
TZOFFSETTO:+0200
END:DAYLIGHT
END:VTIMEZONE
END:VCALENDAR
