BEGIN:VCALENDAR
VERSION:2.0
PRODID:-//Plone.org//NONSGML plone.app.event//EN
X-WR-TIMEZONE:Europe/Berlin
BEGIN:VEVENT
SUMMARY:Die Zukunft der europäischen Klimapolitik
DTSTART;TZID=Europe/Berlin;VALUE=DATE-TIME:20120427T100000
DTEND;TZID=Europe/Berlin;VALUE=DATE-TIME:20120427T180000
DTSTAMP;VALUE=DATE-TIME:20210814T051303Z
UID:98751487c3ca4ec09ff9078b3f7550b0@localhost:8080
CONTACT:http://www.portal.uni-koeln.de/nachricht.html?&L=1&type=10&tx_ttne
 ws[tt_news]=3770&cHash=6b3c1af857a48242782fe6a58e834f7e
CREATED;VALUE=DATE-TIME:20120502T112723Z
DESCRIPTION:PIK-Wissenschaftler Jan Steckel hält einen Impulsvorträge ü
 ber die naturwissenschaftlichen und ökonomischen Aspekte des Klimawandels
  auf dem Thementag zur Zukunft der europäischen Klimapolitik. Eingeladen 
 wird vom Lehrstuhl für Energiewirtschaft und oikos Köln.
LAST-MODIFIED;VALUE=DATE-TIME:20151012T092248Z
LOCATION:Universität Köln
URL:https://www.pik-potsdam.de/de/aktuelles/oeffentliche-veranstaltungen/d
 ie-zukunft-der-europaeischen-klimapolitik
END:VEVENT
BEGIN:VTIMEZONE
TZID:Europe/Berlin
X-LIC-LOCATION:Europe/Berlin
BEGIN:DAYLIGHT
DTSTART;VALUE=DATE-TIME:20120325T030000
TZNAME:CEST
TZOFFSETFROM:+0100
TZOFFSETTO:+0200
END:DAYLIGHT
END:VTIMEZONE
END:VCALENDAR
