BEGIN:VCALENDAR
VERSION:2.0
PRODID:-//Plone.org//NONSGML plone.app.event//EN
X-WR-TIMEZONE:Europe/Berlin
BEGIN:VEVENT
SUMMARY:Die Post‐2020‐Ziele in der EU‐Energie‐ und Klimapolitik un
 d die deutsche Energiewende
DTSTART;TZID=Europe/Berlin;VALUE=DATE-TIME:20130425T093000
DTEND;TZID=Europe/Berlin;VALUE=DATE-TIME:20130425T120000
DTSTAMP;VALUE=DATE-TIME:20210814T051306Z
UID:aab1e417b2e545daa5a51faeb0c9566c@localhost:8080
CREATED;VALUE=DATE-TIME:20130411T110710Z
DESCRIPTION:Im März 2007 haben sich die Staats‐ und Regierungschefs der
  EU‐Mitgliedstaaten unter deutscher Ratspräsidentschaft auf energie‐ 
 und klimapolitische Ziele für das Jahr 2020 geeinigt.  In dem Ende März 
 2013 veröffentlichten Grünbuch der EU‐Kommission geht es nun im Kern u
 m die Frage\, welche Ziele sich die EU für 2030 setzen soll.  Dr. Brigitt
 e Knopf (Potsdam‐Institut für Klimafolgenforschung\, PIK) und Dr. Olive
 r Geden (Stiftung Wissenschaft und Politik\, SWP) werden in diesem Zusamme
 nhang u. a. erläutern\, welchen Einfluss die neuen EU‐Ziele auf die deu
 tsche Energiewende haben werden.\nUm Anmeldung bis zum 19.4.2013 wird gebe
 ten unter konferenzen@swp-berlin.org!\n\n
LAST-MODIFIED;VALUE=DATE-TIME:20200831T102622Z
LOCATION:Stiftung Wissenschaft und Politik\, Ludwigkirchplatz 3‐4\, 1071
 9 Berlin
URL:https://www.pik-potsdam.de/de/aktuelles/oeffentliche-veranstaltungen/d
 ie-post201020202010ziele-in-der-eu2010energie2010-und-klimapolitik-und-die
 -deutsche-energiewende
END:VEVENT
BEGIN:VTIMEZONE
TZID:Europe/Berlin
X-LIC-LOCATION:Europe/Berlin
BEGIN:DAYLIGHT
DTSTART;VALUE=DATE-TIME:20130331T030000
TZNAME:CEST
TZOFFSETFROM:+0100
TZOFFSETTO:+0200
END:DAYLIGHT
END:VTIMEZONE
END:VCALENDAR
