BEGIN:VCALENDAR
VERSION:2.0
PRODID:-//Plone.org//NONSGML plone.app.event//EN
X-WR-TIMEZONE:Europe/Berlin
BEGIN:VEVENT
SUMMARY:Die Atmosphäre als globales Gemeinschaftsgut
DTSTART;TZID=Europe/Berlin;VALUE=DATE-TIME:20151103T183000
DTEND;TZID=Europe/Berlin;VALUE=DATE-TIME:20151103T203000
DTSTAMP;VALUE=DATE-TIME:20210814T051141Z
UID:febb145c6fff4656b72e458eb6f51bfd@localhost:8080
CONTACT:http://www.dpg-physik.de/dpg/magnus/programm.html
CREATED;VALUE=DATE-TIME:20150915T141000Z
DESCRIPTION:Vortrag mit anschließender Diskussion. Im Vorfeld des UN-Klim
 agipfels in Paris Ende des Jahres referiert PIK-Chefökonom Ottmar Edenhof
 er zur wirtschaftlichen Dimension des Klimawandels im Magnus-Haus der Deut
 schen Physikalischen Gesellschaft. Aufgrund des beschränkten Platzangebot
 es ist eine Anmeldung erforderlich.
LAST-MODIFIED;VALUE=DATE-TIME:20200831T102626Z
LOCATION:Magnus-Haus der DPG\, Berlin
URL:https://www.pik-potsdam.de/de/aktuelles/oeffentliche-veranstaltungen/d
 ie-atmosphaere-als-globales-gemeinschaftsgut
END:VEVENT
BEGIN:VTIMEZONE
TZID:Europe/Berlin
X-LIC-LOCATION:Europe/Berlin
BEGIN:STANDARD
DTSTART;VALUE=DATE-TIME:20151025T020000
TZNAME:CET
TZOFFSETFROM:+0200
TZOFFSETTO:+0100
END:STANDARD
END:VTIMEZONE
END:VCALENDAR
