BEGIN:VCALENDAR
VERSION:2.0
PRODID:-//Plone.org//NONSGML plone.app.event//EN
X-WR-TIMEZONE:Europe/Berlin
BEGIN:VEVENT
SUMMARY:Deutscher Kongress für Geographie
DTSTART;TZID=Europe/Berlin;VALUE=DATE-TIME:20151001T114500
DTEND;TZID=Europe/Berlin;VALUE=DATE-TIME:20151001T124500
DTSTAMP;VALUE=DATE-TIME:20210814T051146Z
UID:72b832f257314d2492aa53c180b191de@localhost:8080
CONTACT:http://www.dkg2015.hu-berlin.de/index.php?article_id=2
CREATED;VALUE=DATE-TIME:20150915T140104Z
DESCRIPTION:Anfang Oktober findet an der Humboldt-Universität zu Berlin d
 er diesjährige Deutsche Kongress für Georaphie statt. PIK-Direktor Hans 
 Joachim Schellnhuber wird in seinem Eröffnungsvortrag "Finis Terrae Cogni
 tae" die Relevanz der menschgemachten Umweltveränderungen unterstreichen 
 und verschiedene Zukunftsszenarien erläutern. Anmeldung erforderlich.
LAST-MODIFIED;VALUE=DATE-TIME:20200831T102624Z
LOCATION:Audimax\, Humboldt-Universität zu Berlin
URL:https://www.pik-potsdam.de/de/aktuelles/oeffentliche-veranstaltungen/d
 eutscher-kongress-fuer-georaphie
END:VEVENT
BEGIN:VTIMEZONE
TZID:Europe/Berlin
X-LIC-LOCATION:Europe/Berlin
BEGIN:DAYLIGHT
DTSTART;VALUE=DATE-TIME:20150329T030000
TZNAME:CEST
TZOFFSETFROM:+0100
TZOFFSETTO:+0200
END:DAYLIGHT
END:VTIMEZONE
END:VCALENDAR
