BEGIN:VCALENDAR
VERSION:2.0
PRODID:-//Plone.org//NONSGML plone.app.event//EN
X-WR-TIMEZONE:Europe/Berlin
BEGIN:VEVENT
SUMMARY:Der überhitzte Planet - wie entwickelt sich unser Klima in 100 Ja
 hren?
DTSTART;TZID=Europe/Berlin;VALUE=DATE-TIME:20120509T193000
DTEND;TZID=Europe/Berlin;VALUE=DATE-TIME:20120509T210000
DTSTAMP;VALUE=DATE-TIME:20210814T051259Z
UID:299b2d2e1c264f9bad473a04a8b2268d@localhost:8080
CONTACT:http://sz-veranstaltungen.sueddeutsche.de/2012/05/09/sz-auditorium
 -der-ueberhitzte-planet/
CREATED;VALUE=DATE-TIME:20120424T115055Z
DESCRIPTION:PIK-Wissenschaftler Stefan Rahmstorf hält einen Vortrag im Ra
 hmen der neuen Reihe des Süddeutsche Zeitung Auditoriums über die Entwic
 klung des Klimas in den nächsten 100 Jahren.
LAST-MODIFIED;VALUE=DATE-TIME:20151012T092248Z
LOCATION:München\, Süddeutscher Verlag
URL:https://www.pik-potsdam.de/de/aktuelles/oeffentliche-veranstaltungen/d
 er-ueberhitzte-planet-wie-entwickelt-sich-unser-klima-in-100-jahren
END:VEVENT
BEGIN:VTIMEZONE
TZID:Europe/Berlin
X-LIC-LOCATION:Europe/Berlin
BEGIN:DAYLIGHT
DTSTART;VALUE=DATE-TIME:20120325T030000
TZNAME:CEST
TZOFFSETFROM:+0100
TZOFFSETTO:+0200
END:DAYLIGHT
END:VTIMEZONE
END:VCALENDAR
