BEGIN:VCALENDAR
VERSION:2.0
PRODID:-//Plone.org//NONSGML plone.app.event//EN
X-WR-TIMEZONE:Europe/Berlin
BEGIN:VEVENT
SUMMARY:Der Klimawandel in Berlin
DTSTART;TZID=Europe/Berlin;VALUE=DATE-TIME:20120531T170000
DTEND;TZID=Europe/Berlin;VALUE=DATE-TIME:20120531T200000
DTSTAMP;VALUE=DATE-TIME:20210814T051259Z
UID:d010cb4e7c3f4b03a775269f78d60a01@localhost:8080
CREATED;VALUE=DATE-TIME:20120530T105933Z
DESCRIPTION:PIK-Wissenschaftler Fritz Reusswig hält einen Vortrag über d
 ie Handlungsmöglichkeiten für Stadt und Bürger im Hinblick auf die mög
 lichen Klimafolgen für Berlin. Der Vortrag wird ausgerichtet von der Klim
 aWerkstatt Spandau.
LAST-MODIFIED;VALUE=DATE-TIME:20151012T092247Z
LOCATION:Kulturhaus Spandau
URL:https://www.pik-potsdam.de/de/aktuelles/oeffentliche-veranstaltungen/d
 er-klimawandel-in-berlin
END:VEVENT
BEGIN:VTIMEZONE
TZID:Europe/Berlin
X-LIC-LOCATION:Europe/Berlin
BEGIN:DAYLIGHT
DTSTART;VALUE=DATE-TIME:20120325T030000
TZNAME:CEST
TZOFFSETFROM:+0100
TZOFFSETTO:+0200
END:DAYLIGHT
END:VTIMEZONE
END:VCALENDAR
