BEGIN:VCALENDAR
VERSION:2.0
PRODID:-//Plone.org//NONSGML plone.app.event//EN
X-WR-TIMEZONE:Europe/Berlin
BEGIN:VEVENT
SUMMARY:Der Klimawandel und die Biosphäre
DTSTART;TZID=Europe/Berlin;VALUE=DATE-TIME:20120413T170000
DTEND;TZID=Europe/Berlin;VALUE=DATE-TIME:20120413T190000
DTSTAMP;VALUE=DATE-TIME:20210814T051253Z
UID:abcb627621f34580be5a6ec1a7695d36@localhost:8080
CREATED;VALUE=DATE-TIME:20120124T143534Z
DESCRIPTION:PIK-Wissenschaftlerin Fanny Langerwisch hält einen Vortrag zu
 m Thema Klimawandel und die Biosphäre. Der Vortrag ist Teil der neuen Vor
 tragsreihe "Biosphäre macht Wissen - Die Vortragsreihe am Freitag" des Bi
 osphäre Potsdam unter Mitwirkung des PIK.
LAST-MODIFIED;VALUE=DATE-TIME:20151012T092249Z
LOCATION:Biosphäre Potsdam
URL:https://www.pik-potsdam.de/de/aktuelles/oeffentliche-veranstaltungen/c
 limte-change-and-the-biosphere
END:VEVENT
BEGIN:VTIMEZONE
TZID:Europe/Berlin
X-LIC-LOCATION:Europe/Berlin
BEGIN:DAYLIGHT
DTSTART;VALUE=DATE-TIME:20120325T030000
TZNAME:CEST
TZOFFSETFROM:+0100
TZOFFSETTO:+0200
END:DAYLIGHT
END:VTIMEZONE
END:VCALENDAR
