BEGIN:VCALENDAR
VERSION:2.0
PRODID:-//Plone.org//NONSGML plone.app.event//EN
X-WR-TIMEZONE:Europe/Berlin
BEGIN:VEVENT
SUMMARY:Climate Lecture 2012: "Green Growth" in the Global Crisis – Fair
 ytale or Strategy?
DTSTART;TZID=Europe/Berlin;VALUE=DATE-TIME:20121203T170000
DTEND;TZID=Europe/Berlin;VALUE=DATE-TIME:20121203T190000
DTSTAMP;VALUE=DATE-TIME:20210814T051241Z
UID:c9b31fcf9eb3499bacfe6186973caff9@localhost:8080
CONTACT:http://www.tu-berlin.de/climatelecture
CREATED;VALUE=DATE-TIME:20121011T094010Z
DESCRIPTION:Ottmar Edenhofer\, stellvertretender Direktor und Chefökonom 
 des PIK\,  plädiert bei der vierten "Climate Lecture" im Audimax der TU B
 erlin für “The Wealth of the Commons – A New Paradigm of Prosperity
 ”. Prof. Tim Jackson\, Professor of Sustainable Development at the Unive
 rsity of Surrey and Director of the ESRC Research Group on Lifestyles\, Va
 lues and Environment (RESOLVE) fragt „Where is the Green Economy? Prospe
 rity\, Sustainability and Work – ‚After the Crisis‘“. Er ist ehema
 liger Berater der britischen Regierung und Autor des Buches "Wohlstand ohn
 e Wachstum" (2012\, Oekom Verlag).
LAST-MODIFIED;VALUE=DATE-TIME:20200831T102625Z
LOCATION:TU Berlin\, Hauptgebäude\, Audimax\, Straße des 17. Juni 135
URL:https://www.pik-potsdam.de/de/aktuelles/oeffentliche-veranstaltungen/c
 limate-lecture-2012-green-growth-in-the-global-crisis-2013-fairytale-or-st
 rategy
END:VEVENT
BEGIN:VTIMEZONE
TZID:Europe/Berlin
X-LIC-LOCATION:Europe/Berlin
BEGIN:STANDARD
DTSTART;VALUE=DATE-TIME:20121028T020000
TZNAME:CET
TZOFFSETFROM:+0200
TZOFFSETTO:+0100
END:STANDARD
END:VTIMEZONE
END:VCALENDAR
