BEGIN:VCALENDAR
VERSION:2.0
PRODID:-//Plone.org//NONSGML plone.app.event//EN
X-WR-TIMEZONE:Europe/Berlin
BEGIN:VEVENT
SUMMARY:Climate Justice Dialogue: 2015 - eine Chance nicht zu verpassen
DTSTART;TZID=Europe/Berlin;VALUE=DATE-TIME:20150413T190000
DTEND;TZID=Europe/Berlin;VALUE=DATE-TIME:20150413T203000
DTSTAMP;VALUE=DATE-TIME:20210814T051234Z
UID:c6051532c45b4f418b8346a94ef37598@localhost:8080
CONTACT:http://www.mrfcj.org/n…/climate-justice-dialogue-berlin.html
CREATED;VALUE=DATE-TIME:20150410T130653Z
DESCRIPTION:Diskussion. Klimagerechtigkeit ist eines der bedeutendsten The
 men unserer Zeit in Umwelt und Wirtschaft. Die Mary Robinson Foundation un
 d das Potsdam-Institut für Klimafolgenforschung laden zu einer Podiumsdis
 kussion zum Thema. Neben anderen international renommierten Experten nimmt
  PIK-Direktor Hans Joachim Schellnhuber an der Runde teil.
LAST-MODIFIED;VALUE=DATE-TIME:20200831T102626Z
LOCATION:Senatssaal der Humboldt-Universität zu Berlin
URL:https://www.pik-potsdam.de/de/aktuelles/oeffentliche-veranstaltungen/c
 limate-justice-dialoge-2015-an-opportunity-not-to-be-missed
END:VEVENT
BEGIN:VTIMEZONE
TZID:Europe/Berlin
X-LIC-LOCATION:Europe/Berlin
BEGIN:DAYLIGHT
DTSTART;VALUE=DATE-TIME:20150329T030000
TZNAME:CEST
TZOFFSETFROM:+0100
TZOFFSETTO:+0200
END:DAYLIGHT
END:VTIMEZONE
END:VCALENDAR
