BEGIN:VCALENDAR
VERSION:2.0
PRODID:-//Plone.org//NONSGML plone.app.event//EN
X-WR-TIMEZONE:Europe/Berlin
BEGIN:VEVENT
SUMMARY:Climate Engineering: Chancen und Risiken des Eingriffs in unser Kl
 imasystem
DTSTART;TZID=Europe/Berlin;VALUE=DATE-TIME:20121016T193000
DTEND;TZID=Europe/Berlin;VALUE=DATE-TIME:20121016T213000
DTSTAMP;VALUE=DATE-TIME:20210814T051238Z
UID:c94c7a074882471d811eaab9503fdef9@localhost:8080
CONTACT:http://www.wissenschaft-im-dialog.de/projekte/wissenschaft-kontrov
 ers/climate-engineering.html
CREATED;VALUE=DATE-TIME:20120906T114521Z
DESCRIPTION:PIK-Wissenschaftler Stefan Rahmstorf diskutiert Vorschläge un
 d Risiken des Climate Engineering\, also des gezielten\ngroßtechnischen E
 ingriffs in das Klimasystem der Erde\, beim „Potsdamer Köpfe nachtboule
 vard“.
LAST-MODIFIED;VALUE=DATE-TIME:20200831T102625Z
LOCATION:Potsdam
URL:https://www.pik-potsdam.de/de/aktuelles/oeffentliche-veranstaltungen/c
 limate-engineering-chancen-und-risiken-des-eingriffs-in-unser-klimasystem
END:VEVENT
BEGIN:VTIMEZONE
TZID:Europe/Berlin
X-LIC-LOCATION:Europe/Berlin
BEGIN:DAYLIGHT
DTSTART;VALUE=DATE-TIME:20120325T030000
TZNAME:CEST
TZOFFSETFROM:+0100
TZOFFSETTO:+0200
END:DAYLIGHT
END:VTIMEZONE
END:VCALENDAR
