BEGIN:VCALENDAR
VERSION:2.0
PRODID:-//Plone.org//NONSGML plone.app.event//EN
X-WR-TIMEZONE:Europe/Berlin
BEGIN:VEVENT
SUMMARY:Biokohle auf den Punkt gebracht - Experten diskutieren das Pro und
  Contra eines Hoffnungsträgers
DTSTART;TZID=Europe/Berlin;VALUE=DATE-TIME:20120913T180000
DTEND;TZID=Europe/Berlin;VALUE=DATE-TIME:20120913T200000
DTSTAMP;VALUE=DATE-TIME:20210814T051237Z
UID:f73787f439984054a92ec9c74e6bdfff@localhost:8080
CONTACT:http://www.uni-protokolle.de/nachrichten/id/243798/
CREATED;VALUE=DATE-TIME:20120906T090110Z
DESCRIPTION:Hermann Lotze-Campen\, Leiter des PIK-Forschungsbereichs "Klim
 awirkung und Vulnerabilität"\, diskutiert unter dem Motto "Biochar to the
  point" in einem Expertentalk der besonderen Art die Möglichkeiten und Gr
 enzen von Biokohle.
LAST-MODIFIED;VALUE=DATE-TIME:20200831T102625Z
LOCATION:Potsdam
URL:https://www.pik-potsdam.de/de/aktuelles/oeffentliche-veranstaltungen/b
 iokohle-auf-den-punkt-gebracht-experten-diskutieren-das-pro-und-contra-ein
 es-hoffnungstraegers-1
END:VEVENT
BEGIN:VTIMEZONE
TZID:Europe/Berlin
X-LIC-LOCATION:Europe/Berlin
BEGIN:DAYLIGHT
DTSTART;VALUE=DATE-TIME:20120325T030000
TZNAME:CEST
TZOFFSETFROM:+0100
TZOFFSETTO:+0200
END:DAYLIGHT
END:VTIMEZONE
END:VCALENDAR
