BEGIN:VCALENDAR
VERSION:2.0
PRODID:-//Plone.org//NONSGML plone.app.event//EN
X-WR-TIMEZONE:Europe/Berlin
BEGIN:VEVENT
SUMMARY:Beyond Green Growth: Eine Verbindung zwischen Klima- und Entwicklu
 ngspolitik
DTSTART;TZID=Europe/Berlin;VALUE=DATE-TIME:20120605T100000
DTEND;TZID=Europe/Berlin;VALUE=DATE-TIME:20120605T140000
DTSTAMP;VALUE=DATE-TIME:20210814T051255Z
UID:36742e5b2ae7445daab16818c8f35acf@localhost:8080
CREATED;VALUE=DATE-TIME:20120525T123755Z
DESCRIPTION:Ottmar Edenhofer\, stellvertretender Direktor des PIK\, stellt
  zusammen mit Jennifer Morgan vom World Resources Institut\, Thomas Loster
  von der Munich Re Stiftung\, Anika Schroeder von Misereor und Johannes M
 üller vom Institut für Gesellschaftspolitik ein neu erscheinendes Buch z
 um Thema nachhaltige Entwicklung vor\, dass eine Verbindung von Klima- und
  Entwicklungspolitik auf globaler Ebene vorschlägt.
LAST-MODIFIED;VALUE=DATE-TIME:20151012T092247Z
LOCATION:A31\, Cupola
URL:https://www.pik-potsdam.de/de/aktuelles/oeffentliche-veranstaltungen/b
 eyond-green-growth
END:VEVENT
BEGIN:VTIMEZONE
TZID:Europe/Berlin
X-LIC-LOCATION:Europe/Berlin
BEGIN:DAYLIGHT
DTSTART;VALUE=DATE-TIME:20120325T030000
TZNAME:CEST
TZOFFSETFROM:+0100
TZOFFSETTO:+0200
END:DAYLIGHT
END:VTIMEZONE
END:VCALENDAR
