BEGIN:VCALENDAR
VERSION:2.0
PRODID:-//Plone.org//NONSGML plone.app.event//EN
X-WR-TIMEZONE:Europe/Berlin
BEGIN:VEVENT
SUMMARY:Berliner Klimatag 2015
DTSTART;TZID=Europe/Berlin;VALUE=DATE-TIME:20150426T113000
DTEND;TZID=Europe/Berlin;VALUE=DATE-TIME:20150426T190000
DTSTAMP;VALUE=DATE-TIME:20210814T051158Z
UID:4a8eb996272041d0a63708058578bc65@localhost:8080
CONTACT:http://www.berliner-klimatag.de/?page_id=19
CREATED;VALUE=DATE-TIME:20150506T101751Z
DESCRIPTION:Gesellschaftliches Interesse und Bewusstsein für den Klimasch
 utz wecken\, das will der 1. Berliner Klimatag mit verschiedenen Workshops
 \, Infoständen und Bühnenprogrammen. Die PIK-Forscher Jacob Schewe und F
 ritz Reusswig referieren in diesem Rahmen zum Klimawandel und zum Projekt 
 Klimaneutrales Berlin 2050 und diskutieren im Anschluss mit anderen Expert
 en zum Thema.
LAST-MODIFIED;VALUE=DATE-TIME:20200831T102622Z
LOCATION:Markthalle Neun\, Berlin-Kreuzberg
URL:https://www.pik-potsdam.de/de/aktuelles/oeffentliche-veranstaltungen/b
 erliner-klimatag-2015
END:VEVENT
BEGIN:VTIMEZONE
TZID:Europe/Berlin
X-LIC-LOCATION:Europe/Berlin
BEGIN:DAYLIGHT
DTSTART;VALUE=DATE-TIME:20150329T030000
TZNAME:CEST
TZOFFSETFROM:+0100
TZOFFSETTO:+0200
END:DAYLIGHT
END:VTIMEZONE
END:VCALENDAR
