BEGIN:VCALENDAR
VERSION:2.0
PRODID:-//Plone.org//NONSGML plone.app.event//EN
X-WR-TIMEZONE:Europe/Berlin
BEGIN:VEVENT
SUMMARY:Berliner Energietage 2015: Von Berlin nach Paris
DTSTART;TZID=Europe/Berlin;VALUE=DATE-TIME:20150429T093000
DTEND;TZID=Europe/Berlin;VALUE=DATE-TIME:20150429T130000
DTSTAMP;VALUE=DATE-TIME:20210814T051158Z
UID:6f1560e19c3848ee8e66288fbccce311@localhost:8080
CONTACT:http://berliner-energietage.de
CREATED;VALUE=DATE-TIME:20150415T090034Z
DESCRIPTION:Vortragsreihe. Die deutsche Energiewende gilt als weltweites M
 usterbeispiel. Doch welche Herausforderungen ergeben sich bei diesem Proje
 kt? Kann eine Stadt wie Berlin innovative Impulse geben? Ausgehend vom akt
 uellen Stand der Klimafolgenforschung erörtern die PIK-Wissenschaftler_In
 nen Fritz Reusswig\, Stefan Rahmstorf\, Thomas Nocke\, Michael Pahle und S
 usanne Großmann-Clarke diese Fragen. Welche notwendigen Weichenstellungen
  ergeben sich für den diesjährigen Weltklimagipfel in Paris? Anmeldung e
 rforderlich.
LAST-MODIFIED;VALUE=DATE-TIME:20200831T102621Z
LOCATION:Ludwig-Erhard-Haus\, Berlin
URL:https://www.pik-potsdam.de/de/aktuelles/oeffentliche-veranstaltungen/b
 erliner-energietage-2015
END:VEVENT
BEGIN:VTIMEZONE
TZID:Europe/Berlin
X-LIC-LOCATION:Europe/Berlin
BEGIN:DAYLIGHT
DTSTART;VALUE=DATE-TIME:20150329T030000
TZNAME:CEST
TZOFFSETFROM:+0100
TZOFFSETTO:+0200
END:DAYLIGHT
END:VTIMEZONE
END:VCALENDAR
