BEGIN:VCALENDAR
VERSION:2.0
PRODID:-//Plone.org//NONSGML plone.app.event//EN
X-WR-TIMEZONE:Europe/Berlin
BEGIN:VEVENT
SUMMARY:Berliner Energietage 2015: Klimaneutralität in der wachsenden Sta
 dt 
DTSTART;TZID=Europe/Berlin;VALUE=DATE-TIME:20150428T183000
DTEND;TZID=Europe/Berlin;VALUE=DATE-TIME:20150428T200000
DTSTAMP;VALUE=DATE-TIME:20210814T051143Z
UID:9e3ec0a87e134d3c822a92ca9ba227d3@localhost:8080
CONTACT:http://berliner-energietage.de
CREATED;VALUE=DATE-TIME:20150415T091240Z
DESCRIPTION:Podiumsdiskussion. Im März vergangenen Jahres zeigte eine Mac
 hbarkeitsstudie des PIK: Berlin kann trotz Wirtschafts- und Bevölkerungsw
 achstums bis 2050 klimaneutral werden. PIK-Wissenschaftler Fritz Reusswig 
 disktutiert mit anderen Experten\, welche Maßnahmen nötig sind für dies
 es Ziel und wie sich die Stadt an den Klimawandel anpassen kann. Anmeldung
  erforderlich.
LAST-MODIFIED;VALUE=DATE-TIME:20200831T102625Z
LOCATION:Ludwig-Erhard-Haus\, Berlin
URL:https://www.pik-potsdam.de/de/aktuelles/oeffentliche-veranstaltungen/b
 erliner-energietage-2015-klimaneutralitaet-in-der-wachsenden-stadt
END:VEVENT
BEGIN:VTIMEZONE
TZID:Europe/Berlin
X-LIC-LOCATION:Europe/Berlin
BEGIN:DAYLIGHT
DTSTART;VALUE=DATE-TIME:20150329T030000
TZNAME:CEST
TZOFFSETFROM:+0100
TZOFFSETTO:+0200
END:DAYLIGHT
END:VTIMEZONE
END:VCALENDAR
