BEGIN:VCALENDAR
VERSION:2.0
PRODID:-//Plone.org//NONSGML plone.app.event//EN
X-WR-TIMEZONE:Europe/Berlin
BEGIN:VEVENT
SUMMARY:Verleihung der Ehrendoktorwürde
DTSTART;TZID=Europe/Berlin;VALUE=DATE-TIME:20120627T153000
DTEND;TZID=Europe/Berlin;VALUE=DATE-TIME:20120627T173000
DTSTAMP;VALUE=DATE-TIME:20210814T051244Z
UID:0a5a23c73cf7430eb860abee2c0c03f7@localhost:8080
CREATED;VALUE=DATE-TIME:20120515T103918Z
DESCRIPTION:PIK-Direktor Hans Joachim Schellnhuber wird die Ehrendoktorwü
 rde der TU Berlin verliehen. Als Laudatoren werden unter anderem der Präs
 ident der TU Berlin Jörg Steinbach\, der stellvertretende PIK-Direktor Ot
 tmar Edenhofer und der Staatsminister a. D. Julian Nida-Rümelin sprechen.
LAST-MODIFIED;VALUE=DATE-TIME:20151012T092246Z
LOCATION:TU Berlin
URL:https://www.pik-potsdam.de/de/aktuelles/oeffentliche-veranstaltungen/a
 ward-ceremony-for-honorary-doctorate
END:VEVENT
BEGIN:VTIMEZONE
TZID:Europe/Berlin
X-LIC-LOCATION:Europe/Berlin
BEGIN:DAYLIGHT
DTSTART;VALUE=DATE-TIME:20120325T030000
TZNAME:CEST
TZOFFSETFROM:+0100
TZOFFSETTO:+0200
END:DAYLIGHT
END:VTIMEZONE
END:VCALENDAR
