BEGIN:VCALENDAR
VERSION:2.0
PRODID:-//Plone.org//NONSGML plone.app.event//EN
X-WR-TIMEZONE:Europe/Berlin
BEGIN:VEVENT
SUMMARY:Ausbruch aus dem stahlharten Gehäuse der Hörigkeit – Modelle w
 issenschaftlicher Politikberatung
DTSTART;TZID=Europe/Berlin;VALUE=DATE-TIME:20121113T180000
DTEND;TZID=Europe/Berlin;VALUE=DATE-TIME:20121113T200000
DTSTAMP;VALUE=DATE-TIME:20210814T051243Z
UID:f59c14ef207845babc978ee0108bc67c@localhost:8080
CONTACT:http://www.bbaw.de/veranstaltungen/2012/november/wipo_edenhofer
CREATED;VALUE=DATE-TIME:20121009T144036Z
DESCRIPTION:Ottmar Edenhofer\, stellvertretender Direktor und Chefökonom 
 des PIK\, hält im Rahmen der Vortragsreihe „Wissenschaftliche Politikbe
 ratung“ von Berlin-Brandenburgischer Akademie der Wissenschaften und Lei
 bniz-Gemeinschaft einen Vortrag zum Thema "Ausbruch aus dem stahlharten Ge
 häuse der Hörigkeit – Modelle wissenschaftlicher Politikberatung".\n
LAST-MODIFIED;VALUE=DATE-TIME:20200831T102625Z
LOCATION:Akademiegebäude am Gendarmenmarkt\, Einstein-Saal\, Jägerstrass
 e 22/23\, 10117 Berlin
URL:https://www.pik-potsdam.de/de/aktuelles/oeffentliche-veranstaltungen/a
 usbruch-aus-dem-stahlharten-gehaeuse-der-hoerigkeit-2013-modelle-wissensch
 aftlicher-politikberatung
END:VEVENT
BEGIN:VTIMEZONE
TZID:Europe/Berlin
X-LIC-LOCATION:Europe/Berlin
BEGIN:STANDARD
DTSTART;VALUE=DATE-TIME:20121028T020000
TZNAME:CET
TZOFFSETFROM:+0200
TZOFFSETTO:+0100
END:STANDARD
END:VTIMEZONE
END:VCALENDAR
