BEGIN:VCALENDAR
VERSION:2.0
PRODID:-//Plone.org//NONSGML plone.app.event//EN
X-WR-TIMEZONE:Europe/Berlin
BEGIN:VEVENT
SUMMARY:Anthopozän-Projekt im Berliner Haus der Kulturen der Welt
DTSTART;TZID=Europe/Berlin;VALUE=DATE-TIME:20130110T093000
DTEND;TZID=Europe/Berlin;VALUE=DATE-TIME:20130113T170000
DTSTAMP;VALUE=DATE-TIME:20210814T051307Z
UID:306b98fe891f449da72e6d73a80d0053@localhost:8080
CONTACT:http://www.hkw.de/de/programm/2013/anthropozaen/anthropozaen_76723
 .php
CREATED;VALUE=DATE-TIME:20121219T112418Z
DESCRIPTION:Wolfgang Lucht\, Ko-Leiter des PIK-Forschungsbereichs I "Erdsy
 stemanalyse"\, nimmt am Do\, 10.01.2013 an der Session 1: Earth des "Forum
  für anthropozäne Forschung" teil. Der viertägige Auftakt des Anthropoz
 än-Projekts öffnet ein Archipel der Gedanken\, Positionierungen und Disk
 ussionslinien rund um grundlegende Fragen des "Zeitalters des Menschen". \
 n
LAST-MODIFIED;VALUE=DATE-TIME:20200831T102626Z
LOCATION:Haus der Kulturen der Welt\, John-Foster-Dulles-Allee 10\, 10557 
 Berlin
URL:https://www.pik-potsdam.de/de/aktuelles/oeffentliche-veranstaltungen/a
 nthopozaen-projekt-im-berliner-haus-der-kulturen-der-welt
END:VEVENT
BEGIN:VTIMEZONE
TZID:Europe/Berlin
X-LIC-LOCATION:Europe/Berlin
BEGIN:STANDARD
DTSTART;VALUE=DATE-TIME:20121028T020000
TZNAME:CET
TZOFFSETFROM:+0200
TZOFFSETTO:+0100
END:STANDARD
END:VTIMEZONE
END:VCALENDAR
