BEGIN:VCALENDAR
VERSION:2.0
PRODID:-//Plone.org//NONSGML plone.app.event//EN
X-WR-TIMEZONE:Europe/Berlin
BEGIN:VEVENT
SUMMARY:Akademieabend: Der Himmel gehört uns allen
DTSTART;TZID=Europe/Berlin;VALUE=DATE-TIME:20150618T193000
DTEND;TZID=Europe/Berlin;VALUE=DATE-TIME:20150618T213000
DTSTAMP;VALUE=DATE-TIME:20210814T051158Z
UID:340703cd090d47d39ba8dc005fea9556@localhost:8080
CONTACT:http://www.katholische-akademie-berlin.de/1:6671/Veranstaltungen/2
 015/06/36939_Der-Himmel-gehoert-uns-allen.html
CREATED;VALUE=DATE-TIME:20150617T084850Z
DESCRIPTION:Diskussion. Am 18. Juni wird die Umweltenzyklika von Papst Fra
 nziskus in Rom veröffentlicht. Die Katholische Akadamie Berlin stellt die
  Enzyklika am gleichen Abend in der Hauptstadt vor und veranstaltet eine a
 nschließende Diskussionsrunde zu den ökologischen Fragen unserer Zeit. P
 IK-Chefökonom Ottmar Edenhofer spricht als Gastreferent zum Thema und dis
 kutiert mit dem Publikum. Anmeldung erforderlich.
LAST-MODIFIED;VALUE=DATE-TIME:20200831T102623Z
LOCATION:Kathedralforum in der Hedwigskirchgasse\, Berlin.
URL:https://www.pik-potsdam.de/de/aktuelles/oeffentliche-veranstaltungen/a
 kademieabend-der-himmel-gehoert-uns-allen
END:VEVENT
BEGIN:VTIMEZONE
TZID:Europe/Berlin
X-LIC-LOCATION:Europe/Berlin
BEGIN:DAYLIGHT
DTSTART;VALUE=DATE-TIME:20150329T030000
TZNAME:CEST
TZOFFSETFROM:+0100
TZOFFSETTO:+0200
END:DAYLIGHT
END:VTIMEZONE
END:VCALENDAR
