BEGIN:VCALENDAR
VERSION:2.0
PRODID:-//Plone.org//NONSGML plone.app.event//EN
X-WR-TIMEZONE:Europe/Berlin
BEGIN:VEVENT
SUMMARY:Abschlussveranstaltung des Forschungsprojektes "Climate Media Fact
 ory" 
DTSTART;TZID=Europe/Berlin;VALUE=DATE-TIME:20121025T100000
DTEND;TZID=Europe/Berlin;VALUE=DATE-TIME:20121025T160000
DTSTAMP;VALUE=DATE-TIME:20210814T051245Z
UID:8f1cb10a684648eead5872374a3001f6@localhost:8080
CONTACT:http://www.climatemediafactory.de/
CREATED;VALUE=DATE-TIME:20121019T100422Z
DESCRIPTION:An der Filmhochschule Potsdam Babelsberg präsentiert die "Cli
 mate Media Factory" die Ergebnisse ihres zweijährigen Projekts\, das in Z
 usammenarbeit mit dem PIK realisiert wurde.
LAST-MODIFIED;VALUE=DATE-TIME:20200831T102626Z
LOCATION:Hochschule für Film und Fernsehen „Konrad Wolf“ (HFF) in Pot
 sdam-Babelsberg\, Marlene-Dietrich-Allee 11
URL:https://www.pik-potsdam.de/de/aktuelles/oeffentliche-veranstaltungen/a
 bschlussveranstaltung-des-forschungsprojektes-climate-media-factory
END:VEVENT
BEGIN:VTIMEZONE
TZID:Europe/Berlin
X-LIC-LOCATION:Europe/Berlin
BEGIN:DAYLIGHT
DTSTART;VALUE=DATE-TIME:20120325T030000
TZNAME:CEST
TZOFFSETFROM:+0100
TZOFFSETTO:+0200
END:DAYLIGHT
END:VTIMEZONE
END:VCALENDAR
