BEGIN:VCALENDAR
VERSION:2.0
PRODID:-//Plone.org//NONSGML plone.app.event//EN
X-WR-TIMEZONE:Europe/Berlin
BEGIN:VEVENT
SUMMARY:9. Münchner Klimaherbst: Politik. Macht. Klima.  – und wir?
DTSTART;TZID=Europe/Berlin;VALUE=DATE-TIME:20151012T180000
DTEND;TZID=Europe/Berlin;VALUE=DATE-TIME:20151012T210000
DTSTAMP;VALUE=DATE-TIME:20210814T051144Z
UID:8351628da9a84aa2b04a5fbe188e8bb8@localhost:8080
CONTACT:http://klimaherbst.de/veranstaltung/auftaktveranstaltung/#tribe-ev
 ents-footer
CREATED;VALUE=DATE-TIME:20150925T124111Z
DESCRIPTION:Im Oktober 2015 findet der Münchner Klimaherbst zum nunmehr n
 eunten Mal statt - Ziel der jährlichen Themenwochen ist es\, Bürgerinnen
  und Bürger für die Themen Klimawandel und Klimaschutz zu sensibilisiere
 n. Zu wissenschaftlichen Ursachen und klimapolitischen Hintergründen refe
 riert PIK-Direktor Hans Joachim Schellnhuber bei der diesjährigen Auftakt
 veranstaltung\, die sich mit der Frage beschäftigt\, wie die zentrale glo
 bale Herausforderung des Klimaschutzes gelingen und was jeder dazu beitrag
 en kann. Eintritt frei\, Anmeldung erforderlich.
LAST-MODIFIED;VALUE=DATE-TIME:20200831T102623Z
LOCATION:Alter Rathaussaal\, München
URL:https://www.pik-potsdam.de/de/aktuelles/oeffentliche-veranstaltungen/9
 -muenchner-klimaherbst-politik-macht-klima-2028-und-wir
END:VEVENT
BEGIN:VTIMEZONE
TZID:Europe/Berlin
X-LIC-LOCATION:Europe/Berlin
BEGIN:DAYLIGHT
DTSTART;VALUE=DATE-TIME:20150329T030000
TZNAME:CEST
TZOFFSETFROM:+0100
TZOFFSETTO:+0200
END:DAYLIGHT
END:VTIMEZONE
END:VCALENDAR
